BEGIN:VCALENDAR
VERSION:2.0
PRODID:-//Le Lab RH - ECPv6.15.20//NONSGML v1.0//EN
CALSCALE:GREGORIAN
METHOD:PUBLISH
X-WR-CALNAME:Le Lab RH
X-ORIGINAL-URL:https://lab-rh.com
X-WR-CALDESC:Évènements pour Le Lab RH
REFRESH-INTERVAL;VALUE=DURATION:PT1H
X-Robots-Tag:noindex
X-PUBLISHED-TTL:PT1H
BEGIN:VTIMEZONE
TZID:Europe/Helsinki
BEGIN:DAYLIGHT
TZOFFSETFROM:+0200
TZOFFSETTO:+0300
TZNAME:EEST
DTSTART:20250330T010000
END:DAYLIGHT
BEGIN:STANDARD
TZOFFSETFROM:+0300
TZOFFSETTO:+0200
TZNAME:EET
DTSTART:20251026T010000
END:STANDARD
BEGIN:DAYLIGHT
TZOFFSETFROM:+0200
TZOFFSETTO:+0300
TZNAME:EEST
DTSTART:20260329T010000
END:DAYLIGHT
BEGIN:STANDARD
TZOFFSETFROM:+0300
TZOFFSETTO:+0200
TZNAME:EET
DTSTART:20261025T010000
END:STANDARD
BEGIN:DAYLIGHT
TZOFFSETFROM:+0200
TZOFFSETTO:+0300
TZNAME:EEST
DTSTART:20270328T010000
END:DAYLIGHT
BEGIN:STANDARD
TZOFFSETFROM:+0300
TZOFFSETTO:+0200
TZNAME:EET
DTSTART:20271031T010000
END:STANDARD
END:VTIMEZONE
BEGIN:VEVENT
DTSTART;TZID=Europe/Helsinki:20260128T110000
DTEND;TZID=Europe/Helsinki:20260128T120000
DTSTAMP:20260421T160629
CREATED:20260112T112740Z
LAST-MODIFIED:20260115T103920Z
UID:10000124-1769598000-1769601600@lab-rh.com
SUMMARY:Learning Expedition du Lab RH à HR Technologies
DESCRIPTION:Désolé\, vous n’êtes pas autorisé à voir ce contenu.
URL:https://lab-rh.com/evenement/learning-expedition-du-lab-rh-a-hr-technologies/
LOCATION:Paris Expo Porte de Versailles\, 1 Pl. de la Prte de Versailles\, Paris\, 75015\, France
CATEGORIES:Learning expedition
ATTACH;FMTTYPE=image/png:https://lab-rh.com/wp-content/uploads/2026/01/HRT-20-mars-1.png
END:VEVENT
END:VCALENDAR