BEGIN:VCALENDAR
VERSION:2.0
PRODID:-//Le Lab RH - ECPv6.15.20//NONSGML v1.0//EN
CALSCALE:GREGORIAN
METHOD:PUBLISH
X-ORIGINAL-URL:https://lab-rh.com
X-WR-CALDESC:Évènements pour Le Lab RH
REFRESH-INTERVAL;VALUE=DURATION:PT1H
X-Robots-Tag:noindex
X-PUBLISHED-TTL:PT1H
BEGIN:VTIMEZONE
TZID:Europe/Helsinki
BEGIN:DAYLIGHT
TZOFFSETFROM:+0200
TZOFFSETTO:+0300
TZNAME:EEST
DTSTART:20240331T010000
END:DAYLIGHT
BEGIN:STANDARD
TZOFFSETFROM:+0300
TZOFFSETTO:+0200
TZNAME:EET
DTSTART:20241027T010000
END:STANDARD
BEGIN:DAYLIGHT
TZOFFSETFROM:+0200
TZOFFSETTO:+0300
TZNAME:EEST
DTSTART:20250330T010000
END:DAYLIGHT
BEGIN:STANDARD
TZOFFSETFROM:+0300
TZOFFSETTO:+0200
TZNAME:EET
DTSTART:20251026T010000
END:STANDARD
BEGIN:DAYLIGHT
TZOFFSETFROM:+0200
TZOFFSETTO:+0300
TZNAME:EEST
DTSTART:20260329T010000
END:DAYLIGHT
BEGIN:STANDARD
TZOFFSETFROM:+0300
TZOFFSETTO:+0200
TZNAME:EET
DTSTART:20261025T010000
END:STANDARD
END:VTIMEZONE
BEGIN:VEVENT
DTSTART;TZID=Europe/Helsinki:20251105T090000
DTEND;TZID=Europe/Helsinki:20251105T110000
DTSTAMP:20260421T191435
CREATED:20251016T122017Z
LAST-MODIFIED:20251020T100156Z
UID:10000115-1762333200-1762340400@lab-rh.com
SUMMARY:Learning Expedition Le Lab RH x Cegid
DESCRIPTION:Désolé\, vous n’êtes pas autorisé à voir ce contenu.
URL:https://lab-rh.com/evenement/learning-expedition-le-lab-rh-x-cegid/
LOCATION:FDJ United\, 3 – 7 Quai du Point du Jour\, 92100 Boulogne-Billancourt
CATEGORIES:Learning expedition
ATTACH;FMTTYPE=image/png:https://lab-rh.com/wp-content/uploads/2025/10/Eventbrite-LEX-1.png
END:VEVENT
END:VCALENDAR